BEGIN:VCALENDAR
VERSION:2.0
PRODID:-//Deutsche Gesellschaft für Coaching | DGfC - ECPv6.3.6//NONSGML v1.0//EN
CALSCALE:GREGORIAN
METHOD:PUBLISH
X-ORIGINAL-URL:https://www.coaching-dgfc.de
X-WR-CALDESC:Veranstaltungen für Deutsche Gesellschaft für Coaching | DGfC
REFRESH-INTERVAL;VALUE=DURATION:PT1H
X-Robots-Tag:noindex
X-PUBLISHED-TTL:PT1H
BEGIN:VTIMEZONE
TZID:Europe/Berlin
BEGIN:DAYLIGHT
TZOFFSETFROM:+0100
TZOFFSETTO:+0200
TZNAME:CEST
DTSTART:20260329T010000
END:DAYLIGHT
BEGIN:STANDARD
TZOFFSETFROM:+0200
TZOFFSETTO:+0100
TZNAME:CET
DTSTART:20261025T010000
END:STANDARD
END:VTIMEZONE
BEGIN:VEVENT
DTSTART;TZID=Europe/Berlin:20261126T180000
DTEND;TZID=Europe/Berlin:20261126T210000
DTSTAMP:20260424T220654
CREATED:20230602T195305Z
LAST-MODIFIED:20260302T191749Z
UID:10000426-1795716000-1795726800@www.coaching-dgfc.de
SUMMARY:Treffen der Regionalgruppe Ruhrgebiet
DESCRIPTION:Traditionelles „off coaching“: kollegialer Austausch auf dem Weihnachtsmarkt \nAnmeldungen unter bei einer/einem der Gruppensprecher:innen: \nDaniela Holtz\, holtz@gis-akademie.de\nTobias Kirschbaum\, kirschbaum@balance-coaching-training.de\nSusanne Neuhaus; mail@susanne-neuhaus.de \n 
URL:https://www.coaching-dgfc.de/veranstaltung/treffen-der-regionalgruppe-ruhrgebiet-nov26/
LOCATION:HATTINGEN\, Hattingen
CATEGORIES:Regionalgruppentreffen
END:VEVENT
END:VCALENDAR