BEGIN:VCALENDAR
VERSION:2.0
PRODID:-//Deutsche Gesellschaft für Coaching | DGfC - ECPv6.3.6//NONSGML v1.0//EN
CALSCALE:GREGORIAN
METHOD:PUBLISH
X-WR-CALNAME:Deutsche Gesellschaft für Coaching | DGfC
X-ORIGINAL-URL:https://www.coaching-dgfc.de
X-WR-CALDESC:Veranstaltungen für Deutsche Gesellschaft für Coaching | DGfC
REFRESH-INTERVAL;VALUE=DURATION:PT1H
X-Robots-Tag:noindex
X-PUBLISHED-TTL:PT1H
BEGIN:VTIMEZONE
TZID:Europe/Berlin
BEGIN:DAYLIGHT
TZOFFSETFROM:+0100
TZOFFSETTO:+0200
TZNAME:CEST
DTSTART:20230326T010000
END:DAYLIGHT
BEGIN:STANDARD
TZOFFSETFROM:+0200
TZOFFSETTO:+0100
TZNAME:CET
DTSTART:20231029T010000
END:STANDARD
BEGIN:DAYLIGHT
TZOFFSETFROM:+0100
TZOFFSETTO:+0200
TZNAME:CEST
DTSTART:20240331T010000
END:DAYLIGHT
BEGIN:STANDARD
TZOFFSETFROM:+0200
TZOFFSETTO:+0100
TZNAME:CET
DTSTART:20241027T010000
END:STANDARD
BEGIN:DAYLIGHT
TZOFFSETFROM:+0100
TZOFFSETTO:+0200
TZNAME:CEST
DTSTART:20250330T010000
END:DAYLIGHT
BEGIN:STANDARD
TZOFFSETFROM:+0200
TZOFFSETTO:+0100
TZNAME:CET
DTSTART:20251026T010000
END:STANDARD
BEGIN:DAYLIGHT
TZOFFSETFROM:+0100
TZOFFSETTO:+0200
TZNAME:CEST
DTSTART:20260329T010000
END:DAYLIGHT
BEGIN:STANDARD
TZOFFSETFROM:+0200
TZOFFSETTO:+0100
TZNAME:CET
DTSTART:20261025T010000
END:STANDARD
END:VTIMEZONE
BEGIN:VEVENT
DTSTART;TZID=Europe/Berlin:20260303T190000
DTEND;TZID=Europe/Berlin:20260303T210000
DTSTAMP:20260424T233120
CREATED:20190907T075659Z
LAST-MODIFIED:20251113T184308Z
UID:10000343-1772564400-1772571600@www.coaching-dgfc.de
SUMMARY:Treffen der Regionalgruppe OWL
DESCRIPTION:die Regionalgruppe OWL trifft sich auch im Jahr 2026 wie gewohnt im Haus Nazareth an folgenden Terminen:  \n\nDi\, 03.03.2026\nDi\, 02.06.2026\nDi\, 01.09.2026\nDi\, 01.12.2026\n\njeweils von 19 bis 21 Uhr.
URL:https://www.coaching-dgfc.de/veranstaltung/treffen-der-regionalgruppe-owl-marz26/
LOCATION:Haus Nazareth\, Nazarethweg 5\, Bielefeld
CATEGORIES:Regionalgruppentreffen
END:VEVENT
BEGIN:VEVENT
DTSTART;TZID=Europe/Berlin:20251202T190000
DTEND;TZID=Europe/Berlin:20251202T210000
DTSTAMP:20260424T233120
CREATED:20241016T085521Z
LAST-MODIFIED:20241016T085521Z
UID:10000469-1764702000-1764709200@www.coaching-dgfc.de
SUMMARY:Treffen der Regionalgruppe OWL
DESCRIPTION:Das Treffen findet in Präsenz statt\, eine Anmeldung ist nicht erforderlich.
URL:https://www.coaching-dgfc.de/veranstaltung/treffen-der-regionalgruppe-owl-dez25/
LOCATION:Haus Nazareth\, Nazarethweg 5\, Bielefeld
CATEGORIES:Regionalgruppentreffen
END:VEVENT
BEGIN:VEVENT
DTSTART;TZID=Europe/Berlin:20250304T190000
DTEND;TZID=Europe/Berlin:20250304T210000
DTSTAMP:20260424T233120
CREATED:20190907T075633Z
LAST-MODIFIED:20250402T192033Z
UID:10000341-1741114800-1741122000@www.coaching-dgfc.de
SUMMARY:Treffen der Regionalgruppe OWL - "Kultursensitive Aspekte im Coaching"
DESCRIPTION:„Kultursensitive Aspekte im Coaching“ von Christiane Paschke – Nachholtermin vom 4.3.25 \n 
URL:https://www.coaching-dgfc.de/veranstaltung/treffen-der-regionalgruppe-owl_maerz25/
LOCATION:Haus Nazareth\, Nazarethweg 5\, Bielefeld
CATEGORIES:Regionalgruppentreffen
END:VEVENT
BEGIN:VEVENT
DTSTART;TZID=Europe/Berlin:20240903T190000
DTEND;TZID=Europe/Berlin:20240903T210000
DTSTAMP:20260424T233120
CREATED:20190308T101410Z
LAST-MODIFIED:20240813T192738Z
UID:10000313-1725390000-1725397200@www.coaching-dgfc.de
SUMMARY:Treffen der Regionalgruppe OWL - Workshop "Gebraucht das Theater"
DESCRIPTION:„Gebraucht das Theater – Was wir vom Theater für Coaching lernen können.“\n  \nBeim nächsten OWL-Regionaltreffen am 3. September 2024 bieten Andreas Baumgärtner (Detmold) und Martin Neumann (Bielefeld) in der Zeit von 19.00 Uhr bis ca. 21.00 Uhr einen gemeinsamen Impuls-Workshop „Gebraucht das Theater“ an. \nOrt:  Haus Nazareth – Tagungszentrum Bethel\, Nazarethweg 5-7\, 3617 Bielefeld\, Raum 1.05 \nZeit: Dienstag\, 3. September\, 19:00 bis ca. 21:00 Uhr \nBeide haben langjährige\, unterschiedliche Erfahrung auf dem Theaterfeld sowie im Coaching und werden an diesem Abend persönlich geprägte Einblicke darin geben\, wie das Eine das Andere bereichern kann. So werden handelnd einzelne Techniken und Verfahren der Theaterarbeit erprobt\, die im Coaching Anwendung finden können. \nKurze theoretische Impulse\, praktische Übungen sowie Feedback und Austausch werden Bestandteile dieses Workshops sein. \nWichtig:  \nAufgrund der Raumgröße bitten wir diesmal um wir um eine verbindliche Anmeldung bis zum 27. August an Birgit Thole-Westphal. \n  \nZur thematischen Vertiefung haben Interessierte die Möglichkeit\, unter der Leitung der beiden am 21. und 22. Februar 2025 an einem Workshop als Coaching-Update teilzunehmen\, der in Herford stattfinden wird: https://www.coaching-dgfc.de/veranstaltung/gebraucht-das-theater_2025/ Für diese Fortbildungstage sind noch Plätze frei.
URL:https://www.coaching-dgfc.de/veranstaltung/treffen-der-regionalgruppe-owl-copy/
LOCATION:Haus Nazareth\, Nazarethweg 5\, Bielefeld
CATEGORIES:Regionalgruppentreffen
END:VEVENT
BEGIN:VEVENT
DTSTART;TZID=Europe/Berlin:20231205T190000
DTEND;TZID=Europe/Berlin:20231205T210000
DTSTAMP:20260424T233120
CREATED:20190308T101000Z
LAST-MODIFIED:20231205T084902Z
UID:10000309-1701802800-1701810000@www.coaching-dgfc.de
SUMMARY:Treffen der Regionalgruppe OWL - Impuls-Workshop
DESCRIPTION:Fällt leider auf aufgrund der erwarteten Witterungsbedingung aus!\nWird im 2024 nachgeholt!\n  \n****** \nBeim nächsten Regionaltreffen am 5. Dezember 2023 bieten Andreas Baumgärtner (Detmold) und Martin Neumann (Bielefeld) in der Zeit von 19.00 Uhr bis ca. 21.00 Uhr einen gemeinsamen Impuls-Workshop an: \n„Gebraucht das Theater – Was wir vom Theater für Coaching lernen können.“\nBeide haben langjährige Erfahrung auf dem Theaterfeld sowie im Coaching und werden an diesem Abend persönlich geprägte Einblicke darin geben\, wie das eine das andere bereichern kann. So werden handelnd einzelne Techniken und Verfahren der Theaterarbeit erprobt\, die im Coaching Anwendung finden können.\nKurze theoretische Impulse\, praktische Übungen sowie Feedback und Austausch werden Bestandteile dieses Workshops sein.\nEine Anmeldung ist nicht erforderlich. \nBühne frei! \nZur Vertiefung haben Interessierte die Möglichkeit\, unter der Leitung der beiden am 23. und 24. Februar 2024 an einem Workshop als Coaching-Update teilzunehmen\, der in Herford stattfinden wird: https://www.coaching-dgfc.de/veranstaltung/gebraucht-das-theater_2024/\nFür diese Fortbildungstage sind noch Plätze frei. \n 
URL:https://www.coaching-dgfc.de/veranstaltung/treffen-der-regionalgruppe-owl/
LOCATION:Haus Nazareth\, Nazarethweg 5\, Bielefeld
CATEGORIES:Regionalgruppentreffen
END:VEVENT
END:VCALENDAR