BEGIN:VCALENDAR
VERSION:2.0
PRODID:-//Deutsche Gesellschaft für Coaching | DGfC - ECPv6.3.6//NONSGML v1.0//EN
CALSCALE:GREGORIAN
METHOD:PUBLISH
X-ORIGINAL-URL:https://www.coaching-dgfc.de
X-WR-CALDESC:Veranstaltungen für Deutsche Gesellschaft für Coaching | DGfC
REFRESH-INTERVAL;VALUE=DURATION:PT1H
X-Robots-Tag:noindex
X-PUBLISHED-TTL:PT1H
BEGIN:VTIMEZONE
TZID:Europe/Berlin
BEGIN:DAYLIGHT
TZOFFSETFROM:+0100
TZOFFSETTO:+0200
TZNAME:CEST
DTSTART:20260329T010000
END:DAYLIGHT
BEGIN:STANDARD
TZOFFSETFROM:+0200
TZOFFSETTO:+0100
TZNAME:CET
DTSTART:20261025T010000
END:STANDARD
END:VTIMEZONE
BEGIN:VEVENT
DTSTART;VALUE=DATE:20260424
DTEND;VALUE=DATE:20260427
DTSTAMP:20260425T175624
CREATED:20251209T205154Z
LAST-MODIFIED:20251209T210531Z
UID:10000503-1776988800-1777247999@www.coaching-dgfc.de
SUMMARY:Das Leben findet auf dem Marktplatz statt – Unternehmerisches Denken für Coaches
DESCRIPTION:Du bist Coach\, du willst in die Selbständigkeit\, befindest dich bereits auf dem Weg dahin\, hast die ersten Schritte gemacht? Du bist bereits selbständig? Unternehmerisches Denken und Handeln sind dabei für dich Neuland\, und du willst auch da deine Professionalisierung voranbringen? Dann ist dies dein Seminar. Meike Spannhake und Thomas Schleiken\, zwei erfahrene Coaches und Unternehmer geben Einblick in ihre langjährigen Erfahrungen. Und sie laden ein zu einer Innenreise\, die dich in diesem Seminar in die Welt des Unternehmertums führt. \nMehr Infos: http://thomas-schleiken.com/?page_id=1942 \nFlyer zur Veranstaltung: Flyer – Unternehmen Coaching – 2026 \nVerantwortlicher für die Ausschreibung: Thomas Schleiken \n 
URL:https://www.coaching-dgfc.de/veranstaltung/unternehmerisches-denken-fuer-coaches/
LOCATION:Seminarhotel Kunze-Hof\, Deichstraße 16 - 18\, Stadland\, 26937\, Deutschland
CATEGORIES:Weiterbildung
ATTACH;FMTTYPE=image/jpeg:https://www.coaching-dgfc.de/wp-content/uploads/2025/12/Symbolbild-Unternehmerisches-Denken-fuer-Coaches.jpg
END:VEVENT
END:VCALENDAR