BEGIN:VCALENDAR
VERSION:2.0
PRODID:-//Deutsche Gesellschaft für Coaching | DGfC - ECPv6.3.6//NONSGML v1.0//EN
CALSCALE:GREGORIAN
METHOD:PUBLISH
X-ORIGINAL-URL:https://www.coaching-dgfc.de
X-WR-CALDESC:Veranstaltungen für Deutsche Gesellschaft für Coaching | DGfC
REFRESH-INTERVAL;VALUE=DURATION:PT1H
X-Robots-Tag:noindex
X-PUBLISHED-TTL:PT1H
BEGIN:VTIMEZONE
TZID:Europe/Berlin
BEGIN:DAYLIGHT
TZOFFSETFROM:+0100
TZOFFSETTO:+0200
TZNAME:CEST
DTSTART:20260329T010000
END:DAYLIGHT
BEGIN:STANDARD
TZOFFSETFROM:+0200
TZOFFSETTO:+0100
TZNAME:CET
DTSTART:20261025T010000
END:STANDARD
END:VTIMEZONE
BEGIN:VEVENT
DTSTART;TZID=Europe/Berlin:20260901T183000
DTEND;TZID=Europe/Berlin:20260901T210000
DTSTAMP:20260424T203855
CREATED:20240321T201833Z
LAST-MODIFIED:20260205T203930Z
UID:10000458-1788287400-1788296400@www.coaching-dgfc.de
SUMMARY:Treffen der Regionalgruppe Rhein-Eifel
DESCRIPTION:Weitere Informationen oder Anmeldung über: Corina-Nicole Wolff-Pfister\, Winddancer-coaching@web.de
URL:https://www.coaching-dgfc.de/veranstaltung/treffen-der-regionalgruppe-rhein-eifel-sep26/
LOCATION:digital (Zoom)
CATEGORIES:Netzwerktreffen,Regionalgruppentreffen
END:VEVENT
BEGIN:VEVENT
DTSTART;TZID=Europe/Berlin:20261201T183000
DTEND;TZID=Europe/Berlin:20261201T210000
DTSTAMP:20260424T203855
CREATED:20241028T190759Z
LAST-MODIFIED:20260205T204210Z
UID:10000471-1796149800-1796158800@www.coaching-dgfc.de
SUMMARY:Treffen der Regionalgruppe Rhein-Eifel
DESCRIPTION:Weitere Informationen oder Anmeldung über: Corina-Nicole Wolff-Pfister\, Winddancer-coaching@web.de
URL:https://www.coaching-dgfc.de/veranstaltung/treffen-der-regionalgruppe-rhein-eifel-dez26/
LOCATION:digital (Zoom)
CATEGORIES:Netzwerktreffen,Regionalgruppentreffen
END:VEVENT
END:VCALENDAR